BEGIN:VCALENDAR
VERSION:2.0
PRODID:-//ArogyaVratam - ECPv6.15.20//NONSGML v1.0//EN
CALSCALE:GREGORIAN
METHOD:PUBLISH
X-ORIGINAL-URL:https://arogyavratambydrbentur.com
X-WR-CALDESC:Events for ArogyaVratam
REFRESH-INTERVAL;VALUE=DURATION:PT1H
X-Robots-Tag:noindex
X-PUBLISHED-TTL:PT1H
BEGIN:VTIMEZONE
TZID:UTC
BEGIN:STANDARD
TZOFFSETFROM:+0000
TZOFFSETTO:+0000
TZNAME:UTC
DTSTART:20140101T000000
END:STANDARD
END:VTIMEZONE
BEGIN:VEVENT
DTSTART;VALUE=DATE:20231130
DTEND;VALUE=DATE:20231201
DTSTAMP:20260424T194319
CREATED:20240320T162801Z
LAST-MODIFIED:20240320T162801Z
UID:2213-1701302400-1701388799@arogyavratambydrbentur.com
SUMMARY:Holistic approach to prevent/ manage diabetes via Ayurveda and Yoga
DESCRIPTION:Superiority of yoga therapy in Diabetes management\n	Reduce fasting postprandial blood sugar\,\n	Overcome insulin resistance\,\n	Reduce blood pressure\, oxidative stress\, cortisol\, inflammatory markers.\n	And improving lipid profile.\n	yoga helps to reduce the medication score + adverse effects of drugs \nAyurveda veiws Dibetes as santarpana janya – disease caused due to nutritional excess or metabolic syndrome\n	This kind of Ahara –Vihar [Diet & environmnetal inputs ] lead to basically impairment of Agni – Digestion\n	Digestion happening at GIT [ jataragni]\n	Digestion happening at cellular level [dhatuagni]= impaired metabolism
URL:https://arogyavratambydrbentur.com/event/holistic-approach-to-prevent-manage-diabetes-via-ayurveda-and-yoga/
LOCATION:Huber & Suhner\, : Sector 8\, Imt Manesar\, Gurugram\, Haryana\, Gurgram\, Haryana
CATEGORIES:All Events,Past Events
END:VEVENT
BEGIN:VEVENT
DTSTART;TZID=UTC:20230621T060000
DTEND;TZID=UTC:20230621T070000
DTSTAMP:20260424T194319
CREATED:20230706T111123Z
LAST-MODIFIED:20230707T044453Z
UID:1988-1687327200-1687330800@arogyavratambydrbentur.com
SUMMARY:Chair Yoga for Guests
DESCRIPTION:Chair yoga : For students of OCLD -The Oberoi Centre of Learning and Development\, Maidens Hotel \, Delhi \nTime : 6.00-7.00 pm
URL:https://arogyavratambydrbentur.com/event/chair-yoga-for-guests/
LOCATION:Haryana
CATEGORIES:All Events,Past Events
ATTACH;FMTTYPE=image/jpeg:https://arogyavratambydrbentur.com/wp-content/uploads/2023/07/2023-chair-yoga.jpg
END:VEVENT
BEGIN:VEVENT
DTSTART;TZID=UTC:20230621T060000
DTEND;TZID=UTC:20230621T070000
DTSTAMP:20260424T194319
CREATED:20230706T104444Z
LAST-MODIFIED:20230706T110928Z
UID:1982-1687327200-1687330800@arogyavratambydrbentur.com
SUMMARY:Yoga Sessions for Guests
DESCRIPTION:Yoga session for guests at Maidens Hotel \, Delhi
URL:https://arogyavratambydrbentur.com/event/yoga-sessions-for-guests/
LOCATION:Maidens Hotel\, Delhi\, India
CATEGORIES:All Events,Past Events
ATTACH;FMTTYPE=image/jpeg:https://arogyavratambydrbentur.com/wp-content/uploads/2023/07/2023-yoga1.jpg
END:VEVENT
BEGIN:VEVENT
DTSTART;VALUE=DATE:20230615
DTEND;VALUE=DATE:20230616
DTSTAMP:20260424T194319
CREATED:20230620T083540Z
LAST-MODIFIED:20230621T075015Z
UID:1536-1686787200-1686873599@arogyavratambydrbentur.com
SUMMARY:How I Breathe
DESCRIPTION:Pranayama sessions and Meditation
URL:https://arogyavratambydrbentur.com/event/how-i-breathe/
LOCATION:Shaheed Sukhdev college of business studies\, Delhi
CATEGORIES:All Events,Past Events
ATTACH;FMTTYPE=image/jpeg:https://arogyavratambydrbentur.com/wp-content/uploads/2023/06/how_I_breathe.jpeg
END:VEVENT
BEGIN:VEVENT
DTSTART;VALUE=DATE:20220621
DTEND;VALUE=DATE:20220622
DTSTAMP:20260424T194319
CREATED:20230706T103848Z
LAST-MODIFIED:20230706T103858Z
UID:1977-1655769600-1655855999@arogyavratambydrbentur.com
SUMMARY:International Yoga Day
DESCRIPTION:
URL:https://arogyavratambydrbentur.com/event/international-yoga-day/
LOCATION:Maidens Hotel\, Delhi\, India
CATEGORIES:All Events,Past Events
ATTACH;FMTTYPE=image/png:https://arogyavratambydrbentur.com/wp-content/uploads/2023/07/2022-yoga-day.png
END:VEVENT
BEGIN:VEVENT
DTSTART;VALUE=DATE:20170621
DTEND;VALUE=DATE:20170622
DTSTAMP:20260424T194319
CREATED:20230706T103625Z
LAST-MODIFIED:20230706T111349Z
UID:1972-1498003200-1498089599@arogyavratambydrbentur.com
SUMMARY:Yoga International Day Programme
DESCRIPTION:
URL:https://arogyavratambydrbentur.com/event/yoga-international-day-programme/
LOCATION:CSIR-HRDC\, Gaziabad\, India
CATEGORIES:All Events,Past Events
ATTACH;FMTTYPE=image/jpeg:https://arogyavratambydrbentur.com/wp-content/uploads/2023/07/2017-gaziabad2.jpg
END:VEVENT
BEGIN:VEVENT
DTSTART;VALUE=DATE:20161103
DTEND;VALUE=DATE:20161104
DTSTAMP:20260424T194319
CREATED:20230706T103109Z
LAST-MODIFIED:20230706T104005Z
UID:1968-1478131200-1478217599@arogyavratambydrbentur.com
SUMMARY:Introduction of Yoga Application in health care field
DESCRIPTION:The Organizing Committee of China Health
URL:https://arogyavratambydrbentur.com/event/introduction-of-yoga-application-in-health-care-field/
LOCATION::Tongrentang\, Beijing\, China
CATEGORIES:All Events,Past Events
ATTACH;FMTTYPE=image/jpeg:https://arogyavratambydrbentur.com/wp-content/uploads/2023/07/china-event.jpg
END:VEVENT
BEGIN:VEVENT
DTSTART;VALUE=DATE:20160621
DTEND;VALUE=DATE:20160622
DTSTAMP:20260424T194319
CREATED:20230704T062321Z
LAST-MODIFIED:20230704T172855Z
UID:1957-1466467200-1466553599@arogyavratambydrbentur.com
SUMMARY:International Yoga Day Program
DESCRIPTION:
URL:https://arogyavratambydrbentur.com/event/international-yoga-day-program/
LOCATION:CSIR\, Anusandhan Bhawan\, 2 Rafi Marg\, New Delhi\, 110001\, India
CATEGORIES:All Events,Past Events
ATTACH;FMTTYPE=image/jpeg:https://arogyavratambydrbentur.com/wp-content/uploads/2023/07/yoga-day.jpg
END:VEVENT
BEGIN:VEVENT
DTSTART;VALUE=DATE:20150703
DTEND;VALUE=DATE:20150704
DTSTAMP:20260424T194319
CREATED:20230704T062701Z
LAST-MODIFIED:20230704T172911Z
UID:1961-1435881600-1435967999@arogyavratambydrbentur.com
SUMMARY:Stress Management Workshop
DESCRIPTION:
URL:https://arogyavratambydrbentur.com/event/stress-management-workshop/
LOCATION:IBTech\, New Delhi\, India
CATEGORIES:All Events,Past Events
ATTACH;FMTTYPE=image/jpeg:https://arogyavratambydrbentur.com/wp-content/uploads/2023/07/stress-management.jpg
END:VEVENT
END:VCALENDAR